Package: gDRutils Version: 1.8.0 Command: /Library/Frameworks/R.framework/Resources/bin/R CMD check --install=check:gDRutils.install-out.txt --library=/Library/Frameworks/R.framework/Resources/library --no-vignettes --timings gDRutils_1.8.0.tar.gz StartedAt: 2025-11-03 21:21:58 -0500 (Mon, 03 Nov 2025) EndedAt: 2025-11-03 21:27:17 -0500 (Mon, 03 Nov 2025) EllapsedTime: 319.4 seconds RetCode: 0 Status: OK CheckDir: gDRutils.Rcheck Warnings: 0