Package: gDRutils Version: 1.8.0 Command: /Library/Frameworks/R.framework/Resources/bin/R CMD build --keep-empty-dirs --no-resave-data gDRutils StartedAt: 2025-11-03 17:06:34 -0500 (Mon, 03 Nov 2025) EndedAt: 2025-11-03 17:07:18 -0500 (Mon, 03 Nov 2025) EllapsedTime: 43.5 seconds RetCode: 0 Status: OK PackageFile: gDRutils_1.8.0.tar.gz PackageFileSize: 343.9 KiB