Package: gDRstyle Version: 1.7.4 Command: /home/biocbuild/R/R/bin/R CMD INSTALL gDRstyle StartedAt: 2025-10-20 20:27:03 -0000 (Mon, 20 Oct 2025) EndedAt: 2025-10-20 20:27:07 -0000 (Mon, 20 Oct 2025) EllapsedTime: 3.6 seconds RetCode: 0 Status: OK