Package: gDRstyle Version: 1.7.4 Command: /home/biocbuild/bbs-3.22-bioc/R/bin/R CMD check --install=check:gDRstyle.install-out.txt --library=/home/biocbuild/bbs-3.22-bioc/R/site-library --timings gDRstyle_1.7.4.tar.gz StartedAt: 2025-10-02 00:20:44 -0400 (Thu, 02 Oct 2025) EndedAt: 2025-10-02 00:21:45 -0400 (Thu, 02 Oct 2025) EllapsedTime: 60.1 seconds RetCode: 0 Status: OK CheckDir: gDRstyle.Rcheck Warnings: 0