Package: gDRstyle Version: 1.7.4 Command: /Library/Frameworks/R.framework/Resources/bin/R CMD check --install=check:gDRstyle.install-out.txt --library=/Library/Frameworks/R.framework/Resources/library --no-vignettes --timings gDRstyle_1.7.4.tar.gz StartedAt: 2025-10-19 22:28:19 -0400 (Sun, 19 Oct 2025) EndedAt: 2025-10-19 22:30:53 -0400 (Sun, 19 Oct 2025) EllapsedTime: 154.1 seconds RetCode: 0 Status: OK CheckDir: gDRstyle.Rcheck Warnings: 0