Package: gDRstyle Version: 1.7.4 Command: rm -rf gDRstyle.buildbin-libdir && mkdir gDRstyle.buildbin-libdir && /Users/biocbuild/BBS/utils/build-universal.sh gDRstyle_1.7.4.tar.gz /Library/Frameworks/R.framework/Resources/bin/R gDRstyle.buildbin-libdir StartedAt: 2025-10-20 03:10:14 -0400 (Mon, 20 Oct 2025) EndedAt: 2025-10-20 03:10:23 -0400 (Mon, 20 Oct 2025) EllapsedTime: 9.2 seconds RetCode: 0 Status: OK PackageFile: gDRstyle_1.7.4.tgz PackageFileSize: 658.2 KiB