Package: gDRstyle Version: 1.7.4 Command: /Library/Frameworks/R.framework/Resources/bin/R CMD INSTALL gDRstyle StartedAt: 2025-10-19 15:07:38 -0400 (Sun, 19 Oct 2025) EndedAt: 2025-10-19 15:07:39 -0400 (Sun, 19 Oct 2025) EllapsedTime: 1.6 seconds RetCode: 0 Status: OK