Package: gDRstyle Version: 1.7.4 Command: rm -rf gDRstyle.buildbin-libdir && mkdir gDRstyle.buildbin-libdir && /Users/biocbuild/BBS/utils/build-universal.sh gDRstyle_1.7.4.tar.gz /Library/Frameworks/R.framework/Resources/bin/R gDRstyle.buildbin-libdir StartedAt: 2025-10-19 23:00:24 -0400 (Sun, 19 Oct 2025) EndedAt: 2025-10-19 23:00:27 -0400 (Sun, 19 Oct 2025) EllapsedTime: 3.1 seconds RetCode: 0 Status: OK PackageFile: gDRstyle_1.7.4.tgz PackageFileSize: 658.9 KiB