Package: gDRimport Version: 1.7.5 Command: /home/biocbuild/R/R/bin/R CMD build --keep-empty-dirs --no-resave-data gDRimport StartedAt: 2025-10-17 01:22:04 -0000 (Fri, 17 Oct 2025) EndedAt: 2025-10-17 01:23:09 -0000 (Fri, 17 Oct 2025) EllapsedTime: 65.0 seconds RetCode: 0 Status: OK PackageFile: gDRimport_1.7.5.tar.gz PackageFileSize: 3.036 MiB