Package: gDRimport Version: 1.7.5 Command: /home/biocbuild/bbs-3.22-bioc/R/bin/R CMD INSTALL gDRimport StartedAt: 2025-10-19 15:39:20 -0400 (Sun, 19 Oct 2025) EndedAt: 2025-10-19 15:39:44 -0400 (Sun, 19 Oct 2025) EllapsedTime: 23.7 seconds RetCode: 0 Status: OK