Package: gDRimport Version: 1.7.5 Command: /home/biocbuild/bbs-3.22-bioc/R/bin/R CMD check --install=check:gDRimport.install-out.txt --library=/home/biocbuild/bbs-3.22-bioc/R/site-library --timings gDRimport_1.7.5.tar.gz StartedAt: 2025-10-20 00:05:54 -0400 (Mon, 20 Oct 2025) EndedAt: 2025-10-20 00:09:25 -0400 (Mon, 20 Oct 2025) EllapsedTime: 211.2 seconds RetCode: 0 Status: OK CheckDir: gDRimport.Rcheck Warnings: 0