Package: gDRimport Version: 1.7.5 Command: /Library/Frameworks/R.framework/Resources/bin/R CMD INSTALL gDRimport StartedAt: 2025-10-19 15:36:29 -0400 (Sun, 19 Oct 2025) EndedAt: 2025-10-19 15:37:04 -0400 (Sun, 19 Oct 2025) EllapsedTime: 34.9 seconds RetCode: 0 Status: OK