Package: gDRimport Version: 1.7.5 Command: rm -rf gDRimport.buildbin-libdir && mkdir gDRimport.buildbin-libdir && /Users/biocbuild/BBS/utils/build-universal.sh gDRimport_1.7.5.tar.gz /Library/Frameworks/R.framework/Resources/bin/R gDRimport.buildbin-libdir StartedAt: 2025-10-18 02:58:55 -0400 (Sat, 18 Oct 2025) EndedAt: 2025-10-18 02:59:33 -0400 (Sat, 18 Oct 2025) EllapsedTime: 38.3 seconds RetCode: 0 Status: OK PackageFile: gDRimport_1.7.5.tgz PackageFileSize: 3.329 MiB