Package: gDRimport Version: 1.7.5 Command: /Library/Frameworks/R.framework/Resources/bin/R CMD INSTALL gDRimport StartedAt: 2025-10-17 15:19:53 -0400 (Fri, 17 Oct 2025) EndedAt: 2025-10-17 15:20:04 -0400 (Fri, 17 Oct 2025) EllapsedTime: 10.4 seconds RetCode: 0 Status: OK