Package: gDRimport Version: 1.7.5 Command: /Library/Frameworks/R.framework/Resources/bin/R CMD check --install=check:gDRimport.install-out.txt --library=/Library/Frameworks/R.framework/Resources/library --no-vignettes --timings gDRimport_1.7.5.tar.gz StartedAt: 2025-10-19 19:47:56 -0400 (Sun, 19 Oct 2025) EndedAt: 2025-10-19 19:49:05 -0400 (Sun, 19 Oct 2025) EllapsedTime: 68.7 seconds RetCode: 0 Status: OK CheckDir: gDRimport.Rcheck Warnings: 0