Package: gDRimport Version: 1.7.5 Command: /Library/Frameworks/R.framework/Resources/bin/R CMD build --keep-empty-dirs --no-resave-data gDRimport StartedAt: 2025-10-19 16:26:48 -0400 (Sun, 19 Oct 2025) EndedAt: 2025-10-19 16:27:09 -0400 (Sun, 19 Oct 2025) EllapsedTime: 21.3 seconds RetCode: 0 Status: OK PackageFile: gDRimport_1.7.5.tar.gz PackageFileSize: 3.009 MiB