Package: gDRimport Version: 1.7.5 Command: rm -rf gDRimport.buildbin-libdir && mkdir gDRimport.buildbin-libdir && /Users/biocbuild/BBS/utils/build-universal.sh gDRimport_1.7.5.tar.gz /Library/Frameworks/R.framework/Resources/bin/R gDRimport.buildbin-libdir StartedAt: 2025-10-17 23:09:13 -0400 (Fri, 17 Oct 2025) EndedAt: 2025-10-17 23:09:27 -0400 (Fri, 17 Oct 2025) EllapsedTime: 13.3 seconds RetCode: 0 Status: OK PackageFile: gDRimport_1.7.5.tgz PackageFileSize: 3.335 MiB