Package: gDRimport Version: 1.7.5 Maintainer: Arkadiusz Gladki MaintainerEmail: gladki.arkadiusz at gmail.com git_url: https://git.bioconductor.org/packages/gDRimport git_branch: devel git_last_commit: 9a5a6dd git_last_commit_date: 2025-08-27 05:07:35 -0400 (Wed, 27 Aug 2025)