Package: gDR Version: 1.7.2 Command: /home/biocbuild/bbs-3.22-bioc/R/bin/R CMD INSTALL gDR StartedAt: 2025-10-20 15:37:35 -0400 (Mon, 20 Oct 2025) EndedAt: 2025-10-20 15:37:58 -0400 (Mon, 20 Oct 2025) EllapsedTime: 22.9 seconds RetCode: 0 Status: OK