Package: gDR Version: 1.7.2 Command: /home/biocbuild/bbs-3.22-bioc/R/bin/R CMD build --keep-empty-dirs --no-resave-data --md5 gDR StartedAt: 2025-10-19 17:44:19 -0400 (Sun, 19 Oct 2025) EndedAt: 2025-10-19 17:45:12 -0400 (Sun, 19 Oct 2025) EllapsedTime: 53.0 seconds RetCode: 0 Status: OK PackageFile: gDR_1.7.2.tar.gz PackageFileSize: 276.9 KiB