Package: gDR Version: 1.7.2 Command: /Library/Frameworks/R.framework/Resources/bin/R CMD INSTALL gDR StartedAt: 2025-10-19 15:37:25 -0400 (Sun, 19 Oct 2025) EndedAt: 2025-10-19 15:37:58 -0400 (Sun, 19 Oct 2025) EllapsedTime: 32.8 seconds RetCode: 0 Status: OK