Package: gDR Version: 1.7.2 Command: /Library/Frameworks/R.framework/Resources/bin/R CMD check --install=check:gDR.install-out.txt --library=/Library/Frameworks/R.framework/Resources/library --no-vignettes --timings gDR_1.7.2.tar.gz StartedAt: 2025-10-19 22:28:02 -0400 (Sun, 19 Oct 2025) EndedAt: 2025-10-19 22:32:04 -0400 (Sun, 19 Oct 2025) EllapsedTime: 242.7 seconds RetCode: 0 Status: OK CheckDir: gDR.Rcheck Warnings: 0