Package: gDR Version: 1.7.2 Command: /Library/Frameworks/R.framework/Resources/bin/R CMD build --keep-empty-dirs --no-resave-data gDR StartedAt: 2025-10-19 17:17:06 -0400 (Sun, 19 Oct 2025) EndedAt: 2025-10-19 17:18:27 -0400 (Sun, 19 Oct 2025) EllapsedTime: 81.3 seconds RetCode: 0 Status: OK PackageFile: gDR_1.7.2.tar.gz PackageFileSize: 276 KiB