Package: gDR Version: 1.7.2 Command: /Library/Frameworks/R.framework/Resources/bin/R CMD check --install=check:gDR.install-out.txt --library=/Library/Frameworks/R.framework/Resources/library --no-vignettes --timings gDR_1.7.2.tar.gz StartedAt: 2025-10-20 19:49:41 -0400 (Mon, 20 Oct 2025) EndedAt: 2025-10-20 19:50:47 -0400 (Mon, 20 Oct 2025) EllapsedTime: 65.7 seconds RetCode: 0 Status: OK CheckDir: gDR.Rcheck Warnings: 0