Package: gDNAx Version: 1.7.3 Command: /home/biocbuild/R/R/bin/R CMD INSTALL gDNAx StartedAt: 2025-10-02 21:28:18 -0000 (Thu, 02 Oct 2025) EndedAt: 2025-10-02 21:29:17 -0000 (Thu, 02 Oct 2025) EllapsedTime: 59.8 seconds RetCode: 0 Status: OK