Package: gDNAx Version: 1.8.0 Command: /Library/Frameworks/R.framework/Resources/bin/R CMD check --install=check:gDNAx.install-out.txt --library=/Library/Frameworks/R.framework/Resources/library --no-vignettes --timings gDNAx_1.8.0.tar.gz StartedAt: 2025-11-10 20:08:43 -0500 (Mon, 10 Nov 2025) EndedAt: 2025-11-10 20:14:37 -0500 (Mon, 10 Nov 2025) EllapsedTime: 353.2 seconds RetCode: 0 Status: OK CheckDir: gDNAx.Rcheck Warnings: 0