Package: gDNAx Version: 1.8.0 Command: rm -rf gDNAx.buildbin-libdir && mkdir gDNAx.buildbin-libdir && /Users/biocbuild/BBS/utils/build-universal.sh gDNAx_1.8.0.tar.gz /Library/Frameworks/R.framework/Resources/bin/R gDNAx.buildbin-libdir StartedAt: 2025-11-10 23:20:50 -0500 (Mon, 10 Nov 2025) EndedAt: 2025-11-10 23:21:12 -0500 (Mon, 10 Nov 2025) EllapsedTime: 22.4 seconds RetCode: 0 Status: OK PackageFile: gDNAx_1.8.0.tgz PackageFileSize: 1.105 MiB