Package: funOmics Version: 1.3.0 Command: /home/biocbuild/R/R/bin/R CMD INSTALL funOmics StartedAt: 2025-10-16 21:40:03 -0000 (Thu, 16 Oct 2025) EndedAt: 2025-10-16 21:40:26 -0000 (Thu, 16 Oct 2025) EllapsedTime: 22.8 seconds RetCode: 0 Status: OK