Package: funOmics Version: 1.3.0 Command: /home/biocbuild/R/R/bin/R CMD build --keep-empty-dirs --no-resave-data funOmics StartedAt: 2025-10-17 01:18:30 -0000 (Fri, 17 Oct 2025) EndedAt: 2025-10-17 01:26:14 -0000 (Fri, 17 Oct 2025) EllapsedTime: 464.2 seconds RetCode: 0 Status: OK PackageFile: funOmics_1.3.0.tar.gz PackageFileSize: 53.01 KiB