Package: funOmics Version: 1.3.0 Command: /home/biocbuild/bbs-3.22-bioc/R/bin/R CMD INSTALL funOmics StartedAt: 2025-10-19 15:27:05 -0400 (Sun, 19 Oct 2025) EndedAt: 2025-10-19 15:27:22 -0400 (Sun, 19 Oct 2025) EllapsedTime: 17.0 seconds RetCode: 0 Status: OK