Package: funOmics Version: 1.3.0 Command: /home/biocbuild/bbs-3.22-bioc/R/bin/R CMD check --install=check:funOmics.install-out.txt --library=/home/biocbuild/bbs-3.22-bioc/R/site-library --timings funOmics_1.3.0.tar.gz StartedAt: 2025-10-19 23:59:43 -0400 (Sun, 19 Oct 2025) EndedAt: 2025-10-20 00:09:18 -0400 (Mon, 20 Oct 2025) EllapsedTime: 575.5 seconds RetCode: 0 Status: OK CheckDir: funOmics.Rcheck Warnings: 0