Package: funOmics Version: 1.3.0 Command: /home/biocbuild/bbs-3.22-bioc/R/bin/R CMD build --keep-empty-dirs --no-resave-data --md5 funOmics StartedAt: 2025-10-19 17:42:51 -0400 (Sun, 19 Oct 2025) EndedAt: 2025-10-19 17:48:36 -0400 (Sun, 19 Oct 2025) EllapsedTime: 344.4 seconds RetCode: 0 Status: OK PackageFile: funOmics_1.3.0.tar.gz PackageFileSize: 52.84 KiB