Package: funOmics Version: 1.3.0 Command: rm -rf funOmics.buildbin-libdir && mkdir funOmics.buildbin-libdir && /Users/biocbuild/BBS/utils/build-universal.sh funOmics_1.3.0.tar.gz /Library/Frameworks/R.framework/Resources/bin/R funOmics.buildbin-libdir StartedAt: 2025-10-20 03:09:54 -0400 (Mon, 20 Oct 2025) EndedAt: 2025-10-20 03:10:23 -0400 (Mon, 20 Oct 2025) EllapsedTime: 29.1 seconds RetCode: 0 Status: OK PackageFile: funOmics_1.3.0.tgz PackageFileSize: 70.66 KiB