Package: funOmics Version: 1.3.0 Command: /Library/Frameworks/R.framework/Resources/bin/R CMD check --install=check:funOmics.install-out.txt --library=/Library/Frameworks/R.framework/Resources/library --no-vignettes --timings funOmics_1.3.0.tar.gz StartedAt: 2025-10-19 19:45:09 -0400 (Sun, 19 Oct 2025) EndedAt: 2025-10-19 19:46:59 -0400 (Sun, 19 Oct 2025) EllapsedTime: 110.3 seconds RetCode: 0 Status: OK CheckDir: funOmics.Rcheck Warnings: 0