Package: frmaTools Version: 1.61.0 Command: /Library/Frameworks/R.framework/Resources/bin/R CMD INSTALL frmaTools StartedAt: 2025-10-02 15:07:19 -0400 (Thu, 02 Oct 2025) EndedAt: 2025-10-02 15:07:20 -0400 (Thu, 02 Oct 2025) EllapsedTime: 1.9 seconds RetCode: 0 Status: OK