Package: frmaTools Version: 1.61.0 Command: /Library/Frameworks/R.framework/Resources/bin/R CMD check --install=check:frmaTools.install-out.txt --library=/Library/Frameworks/R.framework/Resources/library --no-vignettes --timings frmaTools_1.61.0.tar.gz StartedAt: 2025-10-01 19:39:40 -0400 (Wed, 01 Oct 2025) EndedAt: 2025-10-01 19:39:59 -0400 (Wed, 01 Oct 2025) EllapsedTime: 19.2 seconds RetCode: 0 Status: OK CheckDir: frmaTools.Rcheck Warnings: 0