Package: frma Version: 1.61.0 Command: /home/biocbuild/R/R/bin/R CMD INSTALL frma StartedAt: 2025-10-23 20:53:24 -0000 (Thu, 23 Oct 2025) EndedAt: 2025-10-23 20:54:02 -0000 (Thu, 23 Oct 2025) EllapsedTime: 37.3 seconds RetCode: 0 Status: OK