Package: frma Version: 1.61.0 Command: /home/biocbuild/R/R/bin/R CMD build --keep-empty-dirs --no-resave-data frma StartedAt: 2025-10-20 23:51:29 -0000 (Mon, 20 Oct 2025) EndedAt: 2025-10-20 23:52:48 -0000 (Mon, 20 Oct 2025) EllapsedTime: 79.0 seconds RetCode: 0 Status: OK PackageFile: frma_1.61.0.tar.gz PackageFileSize: 278.6 KiB