Package: frma Version: 1.62.0 Command: /home/biocbuild/bbs-3.22-bioc/R/bin/R CMD build --keep-empty-dirs --no-resave-data --md5 frma StartedAt: 2025-11-02 17:56:50 -0500 (Sun, 02 Nov 2025) EndedAt: 2025-11-02 17:57:50 -0500 (Sun, 02 Nov 2025) EllapsedTime: 60.1 seconds RetCode: 0 Status: OK PackageFile: frma_1.62.0.tar.gz PackageFileSize: 288.9 KiB