Package: frma Version: 1.62.0 Command: /Library/Frameworks/R.framework/Resources/bin/R CMD check --install=check:frma.install-out.txt --library=/Library/Frameworks/R.framework/Resources/library --no-vignettes --timings frma_1.62.0.tar.gz StartedAt: 2025-11-22 03:37:31 -0500 (Sat, 22 Nov 2025) EndedAt: 2025-11-22 03:43:18 -0500 (Sat, 22 Nov 2025) EllapsedTime: 347.0 seconds RetCode: 0 Status: OK CheckDir: frma.Rcheck Warnings: 0