Package: frma Version: 1.62.0 Command: /Library/Frameworks/R.framework/Resources/bin/R CMD build --keep-empty-dirs --no-resave-data frma StartedAt: 2025-11-21 01:25:44 -0500 (Fri, 21 Nov 2025) EndedAt: 2025-11-21 01:27:01 -0500 (Fri, 21 Nov 2025) EllapsedTime: 77.1 seconds RetCode: 0 Status: OK PackageFile: frma_1.62.0.tar.gz PackageFileSize: 288.1 KiB