Package: frenchFISH Version: 1.21.0 Command: chmod a+r frenchFISH -R && F:\biocbuild\bbs-3.22-bioc\R\bin\R.exe CMD build --keep-empty-dirs --no-resave-data frenchFISH StartedAt: 2025-08-14 20:19:02 -0400 (Thu, 14 Aug 2025) EndedAt: 2025-08-14 20:19:14 -0400 (Thu, 14 Aug 2025) EllapsedTime: 11.7 seconds RetCode: 0 Status: OK PackageFile: frenchFISH_1.21.0.tar.gz PackageFileSize: 21.1 KiB