Package: frenchFISH Version: 1.21.0 Command: /home/biocbuild/bbs-3.22-bioc/R/bin/R CMD INSTALL frenchFISH StartedAt: 2025-10-24 15:20:08 -0400 (Fri, 24 Oct 2025) EndedAt: 2025-10-24 15:20:18 -0400 (Fri, 24 Oct 2025) EllapsedTime: 10.2 seconds RetCode: 0 Status: OK