Package: frenchFISH Version: 1.21.0 Command: /Library/Frameworks/R.framework/Resources/bin/R CMD check --install=check:frenchFISH.install-out.txt --library=/Library/Frameworks/R.framework/Resources/library --no-vignettes --timings frenchFISH_1.21.0.tar.gz StartedAt: 2025-10-24 21:18:25 -0400 (Fri, 24 Oct 2025) EndedAt: 2025-10-24 21:18:59 -0400 (Fri, 24 Oct 2025) EllapsedTime: 33.2 seconds RetCode: 0 Status: OK CheckDir: frenchFISH.Rcheck Warnings: 0