Package: frenchFISH Version: 1.21.0 Command: rm -rf frenchFISH.buildbin-libdir && mkdir frenchFISH.buildbin-libdir && /Users/biocbuild/BBS/utils/build-universal.sh frenchFISH_1.21.0.tar.gz /Library/Frameworks/R.framework/Resources/bin/R frenchFISH.buildbin-libdir StartedAt: 2025-10-24 01:35:06 -0400 (Fri, 24 Oct 2025) EndedAt: 2025-10-24 01:35:12 -0400 (Fri, 24 Oct 2025) EllapsedTime: 5.8 seconds RetCode: 0 Status: OK PackageFile: frenchFISH_1.21.0.tgz PackageFileSize: 52.11 KiB