Package: fobitools Version: 1.17.0 Command: /home/biocbuild/R/R/bin/R CMD INSTALL fobitools StartedAt: 2025-10-20 20:20:57 -0000 (Mon, 20 Oct 2025) EndedAt: 2025-10-20 20:21:36 -0000 (Mon, 20 Oct 2025) EllapsedTime: 39.2 seconds RetCode: 0 Status: OK