Package: fobitools Version: 1.17.0 Command: /home/biocbuild/R/R/bin/R CMD build --keep-empty-dirs --no-resave-data fobitools StartedAt: 2025-10-20 23:50:52 -0000 (Mon, 20 Oct 2025) EndedAt: 2025-10-20 23:52:30 -0000 (Mon, 20 Oct 2025) EllapsedTime: 98.0 seconds RetCode: 0 Status: OK PackageFile: fobitools_1.17.0.tar.gz PackageFileSize: 3.454 MiB