Package: fobitools Version: 1.17.0 Command: /home/biocbuild/bbs-3.22-bioc/R/bin/R CMD INSTALL fobitools StartedAt: 2025-10-20 15:09:10 -0400 (Mon, 20 Oct 2025) EndedAt: 2025-10-20 15:09:26 -0400 (Mon, 20 Oct 2025) EllapsedTime: 15.9 seconds RetCode: 0 Status: OK