Package: fobitools Version: 1.17.0 Command: /home/biocbuild/bbs-3.22-bioc/R/bin/R CMD check --install=check:fobitools.install-out.txt --library=/home/biocbuild/bbs-3.22-bioc/R/site-library --timings fobitools_1.17.0.tar.gz StartedAt: 2025-10-19 23:59:04 -0400 (Sun, 19 Oct 2025) EndedAt: 2025-10-20 00:03:43 -0400 (Mon, 20 Oct 2025) EllapsedTime: 279.3 seconds RetCode: 0 Status: OK CheckDir: fobitools.Rcheck Warnings: 0