Package: fobitools Version: 1.17.0 Command: /home/biocbuild/bbs-3.22-bioc/R/bin/R CMD build --keep-empty-dirs --no-resave-data --md5 fobitools StartedAt: 2025-10-19 17:42:09 -0400 (Sun, 19 Oct 2025) EndedAt: 2025-10-19 17:43:18 -0400 (Sun, 19 Oct 2025) EllapsedTime: 69.1 seconds RetCode: 0 Status: OK PackageFile: fobitools_1.17.0.tar.gz PackageFileSize: 6.177 MiB